BEGIN:VCALENDAR
VERSION:2.0
PRODID:icalendar-ruby
CALSCALE:GREGORIAN
X-WR-TIMEZONE:Europe/Helsinki
BEGIN:VTIMEZONE
TZID:Europe/Helsinki
BEGIN:DAYLIGHT
DTSTART:20260329T040000
TZOFFSETFROM:+0200
TZOFFSETTO:+0300
RRULE:FREQ=YEARLY;BYDAY=-1SU;BYMONTH=3
TZNAME:EEST
END:DAYLIGHT
BEGIN:STANDARD
DTSTART:20261025T030000
TZOFFSETFROM:+0300
TZOFFSETTO:+0200
RRULE:FREQ=YEARLY;BYDAY=-1SU;BYMONTH=10
TZNAME:EET
END:STANDARD
END:VTIMEZONE
BEGIN:VEVENT
DTSTAMP:20260419T195954
UID:kirku.myclub.fi-10541307
DTSTART;TZID=Europe/Helsinki:20260504T170000
DTEND;TZID=Europe/Helsinki:20260504T170000
DESCRIPTION:PERUSTIEDOT  Harjoitukset on suunnattu 7-11 vuotiaille (1-5 luo
 kkalaisille). Kausi aloitetaan 4.5. ja päätetään 25.6. Treenit ovat ma
 anantaisin ja torstaisin keskustan yleisurheilukentällä kello 17:00-18:0
 0. Harjoituksissa opetellaan monipuolisesti yleisurheilulajeja sekä kehit
 etään nuorten koordinaatiokykyä ja peruskuntoa. Varustus treeneissä on
  lenkkarit\, juomapullo ja liikuntaan sopiva vaatetus. Lapset jaetaan kaht
 een ryhmään ikä ja taso huomioiden. Poikkeuksista ilmoitetaan whatsApp 
 ryhmässä.\nKAUSIMAKSU Kausimaksu on 100€\, lisäksi seuran jäsenmaksu
  kerran vuodessa (20 €). Jäsenmaksu ja kausimaksu lähetetään sähkö
 postitse.\nPERUUTUSEHDOT JA HUOMIOT TOIMINTAMAKSUSSA: Ryhmässä on mahdol
 lista käydä tutustumassa kaksi kertaa veloituksetta. Mikäli ette jatka 
 ryhmässä\, ryhmäpaikan peruutus on tehtävä heti toisen tutustumiskerr
 an jälkeen kirjallisena sähköpostitse kirku.yleisurheilu@gmail.com. Mik
 äli ryhmäpaikkaa ei peruuteta ilmoitetun ohjeen mukaan\, veloitetaan kau
 simaksu kokonaisuudessaan. Pidempiaikaisissa sairastapauksissa voimme hyvi
 ttää osan kausimaksusta lääkärintodistusta vastaan.\nPOISSAOLOT: Satu
 nnaisista poissaoloista ei tarvitse ilmoittaa. Pidemmistä poissaoloista v
 oi ilmoittaa omalle valmentajalle tai kirku.yleisurheilu@gmail.com\n\nhttp
 s://kirku.myclub.fi/flow/events/10541307
LOCATION:K:nummen keskustan yleisurheilukenttä\, Vanha Rantatie 8 \, 02400
  KIRKKONUMMI
SEQUENCE:0
SUMMARY:Yleisurheilu: yleisurheilun kevät-alkukesä 7-11vuotiaat
URL;VALUE=URI:https://kirku.myclub.fi/flow/events/10541307
END:VEVENT
END:VCALENDAR
